BEGIN:VCALENDAR
VERSION:2.0
PRODID:-//MoreDirt v1.0//EN
BEGIN:VEVENT
DTSTAMP:20150730T130000Z
ORGANIZER;CN=Valley Mountain Bikers:MAILTO:
STATUS:CONFIRMED
UID:MORESPORTSNETWORK5804
DTSTART:20230917T080000Z
DTEND:20230917T120000Z
SUMMARY:Steel City Enduro
DESCRIPTION:Steel City Enduro - more details: https://www.moredirt.com/event/5804
X-ALT-DESC;FMTTYPE=text/html:Steel City Enduro - more details: https://www.moredirt.com/event/5804
LOCATION:
END:VEVENT
END:VCALENDAR