BEGIN:VCALENDAR
VERSION:2.0
PRODID:-//MoreDirt v1.0//EN
BEGIN:VEVENT
DTSTAMP:20150730T130000Z
ORGANIZER;CN=Trail Party :MAILTO:
STATUS:CONFIRMED
UID:MORESPORTSNETWORK5801
DTSTART:20231014T080000Z
DTEND:20231014T120000Z
SUMMARY:Texas Enduro Cup 4:  Sansom Park
DESCRIPTION:Texas Enduro Cup 4:  Sansom Park - more details: https://www.moredirt.com/event/5801
X-ALT-DESC;FMTTYPE=text/html:Texas Enduro Cup 4:  Sansom Park - more details: https://www.moredirt.com/event/5801
LOCATION:
END:VEVENT
END:VCALENDAR