BEGIN:VCALENDAR
VERSION:2.0
PRODID:-//MoreDirt v1.0//EN
BEGIN:VEVENT
DTSTAMP:20150730T130000Z
ORGANIZER;CN=MTBVT:MAILTO:
STATUS:CONFIRMED
UID:MORESPORTSNETWORK5785
DTSTART:20230915T080000Z
DTEND:20230917T120000Z
SUMMARY:Meeting Of The Grinds Cycling Fest 2023
DESCRIPTION:Meeting Of The Grinds Cycling Fest 2023 - more details: https://www.moredirt.com/event/5785
X-ALT-DESC;FMTTYPE=text/html:Meeting Of The Grinds Cycling Fest 2023 - more details: https://www.moredirt.com/event/5785
LOCATION:
END:VEVENT
END:VCALENDAR