BEGIN:VCALENDAR
VERSION:2.0
PRODID:-//MoreDirt v1.0//EN
BEGIN:VEVENT
DTSTAMP:20150730T130000Z
ORGANIZER;CN=Pearce Cycles Events:MAILTO:
STATUS:CONFIRMED
UID:MORESPORTSNETWORK5780
DTSTART:20231104T080000+0000
DTEND:20231105T120000+0000
SUMMARY:Pearce Cycles Demo Day
DESCRIPTION:Pearce Cycles Demo Day - more details: https://www.moredirt.com/event/5780
X-ALT-DESC;FMTTYPE=text/html:Pearce Cycles Demo Day - more details: https://www.moredirt.com/event/5780
LOCATION:
END:VEVENT
END:VCALENDAR