BEGIN:VCALENDAR
VERSION:2.0
PRODID:-//MoreDirt v1.0//EN
BEGIN:VEVENT
DTSTAMP:20150730T130000Z
ORGANIZER;CN=Berwyn Bike Park:MAILTO:
STATUS:CONFIRMED
UID:MORESPORTSNETWORK5770
DTSTART:20230910T080000Z
DTEND:20230910T120000Z
SUMMARY:Berwyn BikePark Pre-Race Uplift Gravity Events
DESCRIPTION:Berwyn BikePark Pre-Race Uplift Gravity Events - more details: https://www.moredirt.com/event/5770
X-ALT-DESC;FMTTYPE=text/html:Berwyn BikePark Pre-Race Uplift Gravity Events - more details: https://www.moredirt.com/event/5770
LOCATION:
END:VEVENT
END:VCALENDAR