BEGIN:VCALENDAR
VERSION:2.0
PRODID:-//MoreDirt v1.0//EN
BEGIN:VEVENT
DTSTAMP:20150730T130000Z
ORGANIZER;CN=IOW MTB Centre:MAILTO:
STATUS:CONFIRMED
UID:MORESPORTSNETWORK5737
DTSTART:20230722T080000Z
DTEND:20230723T120000Z
SUMMARY:Wight Mini Max MTB Fest
DESCRIPTION:Wight Mini Max MTB Fest - more details: https://www.moredirt.com/event/5737
X-ALT-DESC;FMTTYPE=text/html:Wight Mini Max MTB Fest - more details: https://www.moredirt.com/event/5737
LOCATION:
END:VEVENT
END:VCALENDAR