BEGIN:VCALENDAR
VERSION:2.0
PRODID:-//MoreDirt v1.0//EN
BEGIN:VEVENT
DTSTAMP:20150730T130000Z
ORGANIZER;CN=Descend Bike Park:MAILTO:
STATUS:CONFIRMED
UID:MORESPORTSNETWORK5729
DTSTART:20230813T080000Z
DTEND:20230813T120000Z
SUMMARY:Danny Harts Descend Bike Park Open Race
DESCRIPTION:Danny Harts Descend Bike Park Open Race - more details: https://www.moredirt.com/event/5729
X-ALT-DESC;FMTTYPE=text/html:Danny Harts Descend Bike Park Open Race - more details: https://www.moredirt.com/event/5729
LOCATION:
END:VEVENT
END:VCALENDAR