BEGIN:VCALENDAR
VERSION:2.0
PRODID:-//MoreDirt v1.0//EN
BEGIN:VEVENT
DTSTAMP:20150730T130000Z
ORGANIZER;CN=Trek:MAILTO:
STATUS:CONFIRMED
UID:MORESPORTSNETWORK5724
DTSTART:20230610T080000Z
DTEND:20230611T120000Z
SUMMARY:Trek MTB & e-MTB Demo Day
DESCRIPTION:Trek MTB & e-MTB Demo Day - more details: https://www.moredirt.com/event/5724
X-ALT-DESC;FMTTYPE=text/html:Trek MTB & e-MTB Demo Day - more details: https://www.moredirt.com/event/5724
LOCATION:
END:VEVENT
END:VCALENDAR