BEGIN:VCALENDAR
VERSION:2.0
PRODID:-//MoreDirt v1.0//EN
BEGIN:VEVENT
DTSTAMP:20150730T130000Z
ORGANIZER;CN=Scottish Cycling:MAILTO:
STATUS:CONFIRMED
UID:MORESPORTSNETWORK5716
DTSTART:20230528T080000Z
DTEND:20230528T120000Z
SUMMARY:Race The Worlds - Pump Track - Bellshill
DESCRIPTION:Race The Worlds - Pump Track - Bellshill - more details: https://www.moredirt.com/event/5716
X-ALT-DESC;FMTTYPE=text/html:Race The Worlds - Pump Track - Bellshill - more details: https://www.moredirt.com/event/5716
LOCATION:
END:VEVENT
END:VCALENDAR