BEGIN:VCALENDAR
VERSION:2.0
PRODID:-//MoreDirt v1.0//EN
BEGIN:VEVENT
DTSTAMP:20150730T130000Z
ORGANIZER;CN=Oneplanet Adventure:MAILTO:
STATUS:CONFIRMED
UID:MORESPORTSNETWORK5714
DTSTART:20230520T080000Z
DTEND:20230521T120000Z
SUMMARY:Oneplanet Adventure Demo Weekend 2023
DESCRIPTION:Oneplanet Adventure Demo Weekend 2023 - more details: https://www.moredirt.com/event/5714
X-ALT-DESC;FMTTYPE=text/html:Oneplanet Adventure Demo Weekend 2023 - more details: https://www.moredirt.com/event/5714
LOCATION:
END:VEVENT
END:VCALENDAR