BEGIN:VCALENDAR
VERSION:2.0
PRODID:-//MoreDirt v1.0//EN
BEGIN:VEVENT
DTSTAMP:20150730T130000Z
ORGANIZER;CN=NRB Events:MAILTO:
STATUS:CONFIRMED
UID:MORESPORTSNETWORK5713
DTSTART:20230630T080000Z
DTEND:20230702T120000Z
SUMMARY:Pathway Weekender
DESCRIPTION:Pathway Weekender - more details: https://www.moredirt.com/event/5713
X-ALT-DESC;FMTTYPE=text/html:Pathway Weekender - more details: https://www.moredirt.com/event/5713
LOCATION:
END:VEVENT
END:VCALENDAR