BEGIN:VCALENDAR
VERSION:2.0
PRODID:-//MoreDirt v1.0//EN
BEGIN:VEVENT
DTSTAMP:20150730T130000Z
ORGANIZER;CN=Ely Nordic Ski and Bike Club:MAILTO:
STATUS:CONFIRMED
UID:MORESPORTSNETWORK5711
DTSTART:20230526T080000Z
DTEND:20230526T120000Z
SUMMARY:Hidden Valley Hammer Mountain Bike Race Series - Race 1
DESCRIPTION:Hidden Valley Hammer Mountain Bike Race Series - Race 1 - more details: https://www.moredirt.com/event/5711
X-ALT-DESC;FMTTYPE=text/html:Hidden Valley Hammer Mountain Bike Race Series - Race 1 - more details: https://www.moredirt.com/event/5711
LOCATION:
END:VEVENT
END:VCALENDAR