BEGIN:VCALENDAR
VERSION:2.0
PRODID:-//MoreDirt v1.0//EN
BEGIN:VEVENT
DTSTAMP:20150730T130000Z
ORGANIZER;CN=Wheelbase North East:MAILTO:
STATUS:CONFIRMED
UID:MORESPORTSNETWORK5704
DTSTART:20230513T080000Z
DTEND:20230513T120000Z
SUMMARY:Wheelbase Big Demo Day 2023 - Hamsterley
DESCRIPTION:Wheelbase Big Demo Day 2023 - Hamsterley - more details: https://www.moredirt.com/event/5704
X-ALT-DESC;FMTTYPE=text/html:Wheelbase Big Demo Day 2023 - Hamsterley - more details: https://www.moredirt.com/event/5704
LOCATION:
END:VEVENT
END:VCALENDAR