BEGIN:VCALENDAR
VERSION:2.0
PRODID:-//MoreDirt v1.0//EN
BEGIN:VEVENT
DTSTAMP:20150730T130000Z
ORGANIZER;CN=Focus Rides:MAILTO:
STATUS:CONFIRMED
UID:MORESPORTSNETWORK5661
DTSTART:20230319T080000+0000
DTEND:20230319T120000+0000
SUMMARY:Round 1 Focus Rides MTB XC Series - Revesby Estate
DESCRIPTION:Round 1 Focus Rides MTB XC Series - Revesby Estate - more details: https://www.moredirt.com/event/5661
X-ALT-DESC;FMTTYPE=text/html:Round 1 Focus Rides MTB XC Series - Revesby Estate - more details: https://www.moredirt.com/event/5661
LOCATION:
END:VEVENT
END:VCALENDAR