BEGIN:VCALENDAR
VERSION:2.0
PRODID:-//MoreDirt v1.0//EN
BEGIN:VEVENT
DTSTAMP:20150730T130000Z
ORGANIZER;CN=Cyclewise:MAILTO:
STATUS:CONFIRMED
UID:MORESPORTSNETWORK5653
DTSTART:20230318T080000+0000
DTEND:20230318T120000+0000
SUMMARY:MTB Demo Day Event At Cyclewise Whinlatter
DESCRIPTION:MTB Demo Day Event At Cyclewise Whinlatter - more details: https://www.moredirt.com/event/5653
X-ALT-DESC;FMTTYPE=text/html:MTB Demo Day Event At Cyclewise Whinlatter - more details: https://www.moredirt.com/event/5653
LOCATION:
END:VEVENT
END:VCALENDAR