BEGIN:VCALENDAR
VERSION:2.0
PRODID:-//MoreDirt v1.0//EN
BEGIN:VEVENT
DTSTAMP:20150730T130000Z
ORGANIZER;CN=Glencullen Adventure Park - The GAP:MAILTO:
STATUS:CONFIRMED
UID:MORESPORTSNETWORK5652
DTSTART:20230305T080000+0000
DTEND:20230305T120000+0000
SUMMARY:E-MTB Demo Day - GAP Glencullen
DESCRIPTION:E-MTB Demo Day - GAP Glencullen - more details: https://www.moredirt.com/event/5652
X-ALT-DESC;FMTTYPE=text/html:E-MTB Demo Day - GAP Glencullen - more details: https://www.moredirt.com/event/5652
LOCATION:
END:VEVENT
END:VCALENDAR