BEGIN:VCALENDAR
VERSION:2.0
PRODID:-//MoreDirt v1.0//EN
BEGIN:VEVENT
DTSTAMP:20150730T130000Z
ORGANIZER;CN=Savé Valley Conservancy:MAILTO:
STATUS:CONFIRMED
UID:MORESPORTSNETWORK5650
DTSTART:20230511T080000Z
DTEND:20230511T120000Z
SUMMARY:Savé Valley Conservancy MTB Event
DESCRIPTION:Savé Valley Conservancy MTB Event - more details: https://www.moredirt.com/event/5650
X-ALT-DESC;FMTTYPE=text/html:Savé Valley Conservancy MTB Event - more details: https://www.moredirt.com/event/5650
LOCATION:
END:VEVENT
END:VCALENDAR