BEGIN:VCALENDAR
VERSION:2.0
PRODID:-//MoreDirt v1.0//EN
BEGIN:VEVENT
DTSTAMP:20150730T130000Z
ORGANIZER;CN=TrailX UK - Ride & Run:MAILTO:
STATUS:CONFIRMED
UID:MORESPORTSNETWORK5649
DTSTART:20230708T080000Z
DTEND:20230708T120000Z
SUMMARY:TrailX eMTB Challenge
DESCRIPTION:TrailX eMTB Challenge - more details: https://www.moredirt.com/event/5649
X-ALT-DESC;FMTTYPE=text/html:TrailX eMTB Challenge - more details: https://www.moredirt.com/event/5649
LOCATION:
END:VEVENT
END:VCALENDAR