BEGIN:VCALENDAR
VERSION:2.0
PRODID:-//MoreDirt v1.0//EN
BEGIN:VEVENT
DTSTAMP:20150730T130000Z
ORGANIZER;CN=Eventrex UK:MAILTO:
STATUS:CONFIRMED
UID:MORESPORTSNETWORK5641
DTSTART:20230709T080000Z
DTEND:20230709T120000Z
SUMMARY:Vittoria MTB Marathon 2023
DESCRIPTION:Vittoria MTB Marathon 2023 - more details: https://www.moredirt.com/event/5641
X-ALT-DESC;FMTTYPE=text/html:Vittoria MTB Marathon 2023 - more details: https://www.moredirt.com/event/5641
LOCATION:
END:VEVENT
END:VCALENDAR