BEGIN:VCALENDAR
VERSION:2.0
PRODID:-//MoreDirt v1.0//EN
BEGIN:VEVENT
DTSTAMP:20150730T130000Z
ORGANIZER;CN=Summit Cycles:MAILTO:
STATUS:CONFIRMED
UID:MORESPORTSNETWORK563
DTSTART:20131005T080000Z
DTEND:20131005T120000Z
SUMMARY:Howies Coed Y Brenin Enduro Saturday 5th October 2013
DESCRIPTION:Howies Coed Y Brenin Enduro Saturday 5th October 2013 - more details: https://www.moredirt.com/event/563
X-ALT-DESC;FMTTYPE=text/html:Howies Coed Y Brenin Enduro Saturday 5th October 2013 - more details: https://www.moredirt.com/event/563
LOCATION:
END:VEVENT
END:VCALENDAR