BEGIN:VCALENDAR
VERSION:2.0
PRODID:-//MoreDirt v1.0//EN
BEGIN:VEVENT
DTSTAMP:20150730T130000Z
ORGANIZER;CN=Hurtwood:MAILTO:
STATUS:CONFIRMED
UID:MORESPORTSNETWORK5639
DTSTART:20230709T080000Z
DTEND:20230709T120000Z
SUMMARY:Hurtwood Enduro Surrey Hills
DESCRIPTION:Hurtwood Enduro Surrey Hills - more details: https://www.moredirt.com/event/5639
X-ALT-DESC;FMTTYPE=text/html:Hurtwood Enduro Surrey Hills - more details: https://www.moredirt.com/event/5639
LOCATION:
END:VEVENT
END:VCALENDAR