BEGIN:VCALENDAR
VERSION:2.0
PRODID:-//MoreDirt v1.0//EN
BEGIN:VEVENT
DTSTAMP:20150730T130000Z
ORGANIZER;CN=Dirt Farm:MAILTO:
STATUS:CONFIRMED
UID:MORESPORTSNETWORK5631
DTSTART:20230624T080000Z
DTEND:20230624T120000Z
SUMMARY:Ladies Day - Dirt Farm
DESCRIPTION:Ladies Day - Dirt Farm - more details: https://www.moredirt.com/event/5631
X-ALT-DESC;FMTTYPE=text/html:Ladies Day - Dirt Farm - more details: https://www.moredirt.com/event/5631
LOCATION:
END:VEVENT
END:VCALENDAR