BEGIN:VCALENDAR
VERSION:2.0
PRODID:-//MoreDirt v1.0//EN
BEGIN:VEVENT
DTSTAMP:20150730T130000Z
ORGANIZER;CN=Summit Cycles:MAILTO:
STATUS:CONFIRMED
UID:MORESPORTSNETWORK562
DTSTART:20130505T080000Z
DTEND:20130505T120000Z
SUMMARY:Howies Dyfi Enduro
DESCRIPTION:Howies Dyfi Enduro - more details: https://www.moredirt.com/event/562
X-ALT-DESC;FMTTYPE=text/html:Howies Dyfi Enduro - more details: https://www.moredirt.com/event/562
LOCATION:
END:VEVENT
END:VCALENDAR