BEGIN:VCALENDAR
VERSION:2.0
PRODID:-//MoreDirt v1.0//EN
BEGIN:VEVENT
DTSTAMP:20150730T130000Z
ORGANIZER;CN=MIJ Downhill Events:MAILTO:
STATUS:CONFIRMED
UID:MORESPORTSNETWORK560
DTSTART:20130210T080000+0000
DTEND:20130210T120000+0000
SUMMARY:Llantrisant Woods Push Up Race
DESCRIPTION:Llantrisant Woods Push Up Race - more details: https://www.moredirt.com/event/560
X-ALT-DESC;FMTTYPE=text/html:Llantrisant Woods Push Up Race - more details: https://www.moredirt.com/event/560
LOCATION:
END:VEVENT
END:VCALENDAR