BEGIN:VCALENDAR
VERSION:2.0
PRODID:-//MoreDirt v1.0//EN
BEGIN:VEVENT
DTSTAMP:20150730T130000Z
ORGANIZER;CN=Hosted by Wightlink, Wight Mountain CRT.:MAILTO:
STATUS:CONFIRMED
UID:MORESPORTSNETWORK5607
DTSTART:20230416T080000Z
DTEND:20230416T120000Z
SUMMARY:Wightlink-Wight Mountain MTB XC Race Series - Round 2
DESCRIPTION:Wightlink-Wight Mountain MTB XC Race Series - Round 2 - more details: https://www.moredirt.com/event/5607
X-ALT-DESC;FMTTYPE=text/html:Wightlink-Wight Mountain MTB XC Race Series - Round 2 - more details: https://www.moredirt.com/event/5607
LOCATION:
END:VEVENT
END:VCALENDAR