BEGIN:VCALENDAR
VERSION:2.0
PRODID:-//MoreDirt v1.0//EN
BEGIN:VEVENT
DTSTAMP:20150730T130000Z
ORGANIZER;CN=Wightlink, Wight Mountain CRT.:MAILTO:
STATUS:CONFIRMED
UID:MORESPORTSNETWORK5606
DTSTART:20230226T080000+0000
DTEND:20230226T120000+0000
SUMMARY:Wightlink-Wight Mountain MTB XC Race Series - Round 1
DESCRIPTION:Wightlink-Wight Mountain MTB XC Race Series - Round 1 - more details: https://www.moredirt.com/event/5606
X-ALT-DESC;FMTTYPE=text/html:Wightlink-Wight Mountain MTB XC Race Series - Round 1 - more details: https://www.moredirt.com/event/5606
LOCATION:
END:VEVENT
END:VCALENDAR