BEGIN:VCALENDAR
VERSION:2.0
PRODID:-//MoreDirt v1.0//EN
BEGIN:VEVENT
DTSTAMP:20150730T130000Z
ORGANIZER;CN=wentwood50:MAILTO:
STATUS:CONFIRMED
UID:MORESPORTSNETWORK556
DTSTART:20130310T080000+0000
DTEND:20130310T120000+0000
SUMMARY:Wentwood 50 - Goshawk Challenge MTB Enduro
DESCRIPTION:Wentwood 50 - Goshawk Challenge MTB Enduro - more details: https://www.moredirt.com/event/556
X-ALT-DESC;FMTTYPE=text/html:Wentwood 50 - Goshawk Challenge MTB Enduro - more details: https://www.moredirt.com/event/556
LOCATION:
END:VEVENT
END:VCALENDAR