BEGIN:VCALENDAR
VERSION:2.0
PRODID:-//MoreDirt v1.0//EN
BEGIN:VEVENT
DTSTAMP:20150730T130000Z
ORGANIZER;CN=NRB Events:MAILTO:
STATUS:CONFIRMED
UID:MORESPORTSNETWORK5552
DTSTART:20230917T080000Z
DTEND:20230917T120000Z
SUMMARY:Fryup Mash-Up
DESCRIPTION:Fryup Mash-Up - more details: https://www.moredirt.com/event/5552
X-ALT-DESC;FMTTYPE=text/html:Fryup Mash-Up - more details: https://www.moredirt.com/event/5552
LOCATION:
END:VEVENT
END:VCALENDAR