BEGIN:VCALENDAR
VERSION:2.0
PRODID:-//MoreDirt v1.0//EN
BEGIN:VEVENT
DTSTAMP:20150730T130000Z
ORGANIZER;CN=Intermountain Cup Mountain Bike Racing Series:MAILTO:
STATUS:CONFIRMED
UID:MORESPORTSNETWORK5526
DTSTART:20230225T080000+0000
DTEND:20230225T120000+0000
SUMMARY:Red Rock Rampage
DESCRIPTION:Red Rock Rampage - more details: https://www.moredirt.com/event/5526
X-ALT-DESC;FMTTYPE=text/html:Red Rock Rampage - more details: https://www.moredirt.com/event/5526
LOCATION:
END:VEVENT
END:VCALENDAR