BEGIN:VCALENDAR
VERSION:2.0
PRODID:-//MoreDirt v1.0//EN
BEGIN:VEVENT
DTSTAMP:20150730T130000Z
ORGANIZER;CN=Southern Enduro Tour:MAILTO:
STATUS:CONFIRMED
UID:MORESPORTSNETWORK5503
DTSTART:20230212T080000+0000
DTEND:20230212T120000+0000
SUMMARY:Southern Enduro Tour 2023 - RD2
DESCRIPTION:Southern Enduro Tour 2023 - RD2 - more details: https://www.moredirt.com/event/5503
X-ALT-DESC;FMTTYPE=text/html:Southern Enduro Tour 2023 - RD2 - more details: https://www.moredirt.com/event/5503
LOCATION:
END:VEVENT
END:VCALENDAR