BEGIN:VCALENDAR
VERSION:2.0
PRODID:-//MoreDirt v1.0//EN
BEGIN:VEVENT
DTSTAMP:20150730T130000Z
ORGANIZER;CN=Nevis Range:MAILTO:
STATUS:CONFIRMED
UID:MORESPORTSNETWORK5496
DTSTART:20230318T080000+0000
DTEND:20230318T120000+0000
SUMMARY:Ski Enduro
DESCRIPTION:Ski Enduro - more details: https://www.moredirt.com/event/5496
X-ALT-DESC;FMTTYPE=text/html:Ski Enduro - more details: https://www.moredirt.com/event/5496
LOCATION:
END:VEVENT
END:VCALENDAR