BEGIN:VCALENDAR
VERSION:2.0
PRODID:-//MoreDirt v1.0//EN
BEGIN:VEVENT
DTSTAMP:20150730T130000Z
ORGANIZER;CN=Machynlleth MTB Club:MAILTO:
STATUS:CONFIRMED
UID:MORESPORTSNETWORK5471
DTSTART:20230129T080000+0000
DTEND:20230129T120000+0000
SUMMARY:Dyfi Winter Warm Up 2023
DESCRIPTION:Dyfi Winter Warm Up 2023 - more details: https://www.moredirt.com/event/5471
X-ALT-DESC;FMTTYPE=text/html:Dyfi Winter Warm Up 2023 - more details: https://www.moredirt.com/event/5471
LOCATION:
END:VEVENT
END:VCALENDAR