BEGIN:VCALENDAR
VERSION:2.0
PRODID:-//MoreDirt v1.0//EN
BEGIN:VEVENT
DTSTAMP:20150730T130000Z
ORGANIZER;CN=Ride Mendips:MAILTO:
STATUS:CONFIRMED
UID:MORESPORTSNETWORK5423
DTSTART:20230205T080000+0000
DTEND:20230205T120000+0000
SUMMARY:Rowberrow Trails Dig Session
DESCRIPTION:Rowberrow Trails Dig Session - more details: https://www.moredirt.com/event/5423
X-ALT-DESC;FMTTYPE=text/html:Rowberrow Trails Dig Session - more details: https://www.moredirt.com/event/5423
LOCATION:
END:VEVENT
END:VCALENDAR