BEGIN:VCALENDAR
VERSION:2.0
PRODID:-//MoreDirt v1.0//EN
BEGIN:VEVENT
DTSTAMP:20150730T130000Z
ORGANIZER;CN=FTC Events Ltd:MAILTO:
STATUS:CONFIRMED
UID:MORESPORTSNETWORK5413
DTSTART:20230909T080000Z
DTEND:20230910T120000Z
SUMMARY:Dukes Weekender 2023
DESCRIPTION:Dukes Weekender 2023 - more details: https://www.moredirt.com/event/5413
X-ALT-DESC;FMTTYPE=text/html:Dukes Weekender 2023 - more details: https://www.moredirt.com/event/5413
LOCATION:
END:VEVENT
END:VCALENDAR