BEGIN:VCALENDAR
VERSION:2.0
PRODID:-//MoreDirt v1.0//EN
BEGIN:VEVENT
DTSTAMP:20150730T130000Z
ORGANIZER;CN=Ride Sheffield:MAILTO:
STATUS:CONFIRMED
UID:MORESPORTSNETWORK5405
DTSTART:20221126T080000+0000
DTEND:20221126T120000+0000
SUMMARY:Greno DH3 Dig Day
DESCRIPTION:Greno DH3 Dig Day - more details: https://www.moredirt.com/event/5405
X-ALT-DESC;FMTTYPE=text/html:Greno DH3 Dig Day - more details: https://www.moredirt.com/event/5405
LOCATION:
END:VEVENT
END:VCALENDAR