BEGIN:VCALENDAR
VERSION:2.0
PRODID:-//MoreDirt v1.0//EN
BEGIN:VEVENT
DTSTAMP:20150730T130000Z
ORGANIZER;CN=Kane Fleury:MAILTO:
STATUS:CONFIRMED
UID:MORESPORTSNETWORK5384
DTSTART:20230218T080000+0000
DTEND:20230219T120000+0000
SUMMARY:3 Peaks Enduro 2023
DESCRIPTION:3 Peaks Enduro 2023 - more details: https://www.moredirt.com/event/5384
X-ALT-DESC;FMTTYPE=text/html:3 Peaks Enduro 2023 - more details: https://www.moredirt.com/event/5384
LOCATION:
END:VEVENT
END:VCALENDAR