BEGIN:VCALENDAR
VERSION:2.0
PRODID:-//MoreDirt v1.0//EN
BEGIN:VEVENT
DTSTAMP:20150730T130000Z
ORGANIZER;CN=Hamsterley Forest - Forestry England:MAILTO:
STATUS:CONFIRMED
UID:MORESPORTSNETWORK5378
DTSTART:20221119T080000+0000
DTEND:20221119T120000+0000
SUMMARY:MTB Trail Maintenance Day - Hamsterley Forest
DESCRIPTION:MTB Trail Maintenance Day - Hamsterley Forest - more details: https://www.moredirt.com/event/5378
X-ALT-DESC;FMTTYPE=text/html:MTB Trail Maintenance Day - Hamsterley Forest - more details: https://www.moredirt.com/event/5378
LOCATION:
END:VEVENT
END:VCALENDAR