BEGIN:VCALENDAR
VERSION:2.0
PRODID:-//MoreDirt v1.0//EN
BEGIN:VEVENT
DTSTAMP:20150730T130000Z
ORGANIZER;CN=Bagman Cycling:MAILTO:
STATUS:CONFIRMED
UID:MORESPORTSNETWORK5373
DTSTART:20240324T080000+0000
DTEND:20240324T120000+0000
SUMMARY:The Cotswold Cross 2024
DESCRIPTION:The Cotswold Cross 2024 - more details: https://www.moredirt.com/event/5373
X-ALT-DESC;FMTTYPE=text/html:The Cotswold Cross 2024 - more details: https://www.moredirt.com/event/5373
LOCATION:
END:VEVENT
END:VCALENDAR