BEGIN:VCALENDAR
VERSION:2.0
PRODID:-//MoreDirt v1.0//EN
BEGIN:VEVENT
DTSTAMP:20150730T130000Z
ORGANIZER;CN=Chevin Cycles:MAILTO:
STATUS:CONFIRMED
UID:MORESPORTSNETWORK5372
DTSTART:20221105T080000+0000
DTEND:20221105T120000+0000
SUMMARY:Chevin Cycles Demo Day
DESCRIPTION:Chevin Cycles Demo Day - more details: https://www.moredirt.com/event/5372
X-ALT-DESC;FMTTYPE=text/html:Chevin Cycles Demo Day - more details: https://www.moredirt.com/event/5372
LOCATION:
END:VEVENT
END:VCALENDAR