BEGIN:VCALENDAR
VERSION:2.0
PRODID:-//MoreDirt v1.0//EN
BEGIN:VEVENT
DTSTAMP:20150730T130000Z
ORGANIZER;CN=Exeter Wheelers Cycling Club:MAILTO:
STATUS:CONFIRMED
UID:MORESPORTSNETWORK5370
DTSTART:20221113T080000+0000
DTEND:20221113T120000+0000
SUMMARY:SWCX Round 4 - Escot
DESCRIPTION:SWCX Round 4 - Escot - more details: https://www.moredirt.com/event/5370
X-ALT-DESC;FMTTYPE=text/html:SWCX Round 4 - Escot - more details: https://www.moredirt.com/event/5370
LOCATION:
END:VEVENT
END:VCALENDAR