BEGIN:VCALENDAR
VERSION:2.0
PRODID:-//MoreDirt v1.0//EN
BEGIN:VEVENT
DTSTAMP:20150730T130000Z
ORGANIZER;CN=Plymouth Corinthian Cycling Club:MAILTO:
STATUS:CONFIRMED
UID:MORESPORTSNETWORK5369
DTSTART:20221211T080000+0000
DTEND:20221211T120000+0000
SUMMARY:SWCX Round 6 - Corrie Cross
DESCRIPTION:SWCX Round 6 - Corrie Cross - more details: https://www.moredirt.com/event/5369
X-ALT-DESC;FMTTYPE=text/html:SWCX Round 6 - Corrie Cross - more details: https://www.moredirt.com/event/5369
LOCATION:
END:VEVENT
END:VCALENDAR