BEGIN:VCALENDAR
VERSION:2.0
PRODID:-//MoreDirt v1.0//EN
BEGIN:VEVENT
DTSTAMP:20150730T130000Z
ORGANIZER;CN=Oneplanet Adventure:MAILTO:
STATUS:CONFIRMED
UID:MORESPORTSNETWORK5360
DTSTART:20221105T080000+0000
DTEND:20221105T120000+0000
SUMMARY:Forbidden Bikes - Autumn Demo Day 2022
DESCRIPTION:Forbidden Bikes - Autumn Demo Day 2022 - more details: https://www.moredirt.com/event/5360
X-ALT-DESC;FMTTYPE=text/html:Forbidden Bikes - Autumn Demo Day 2022 - more details: https://www.moredirt.com/event/5360
LOCATION:
END:VEVENT
END:VCALENDAR