BEGIN:VCALENDAR
VERSION:2.0
PRODID:-//MoreDirt v1.0//EN
BEGIN:VEVENT
DTSTAMP:20150730T130000Z
ORGANIZER;CN=Descend Bike Park:MAILTO:
STATUS:CONFIRMED
UID:MORESPORTSNETWORK5322
DTSTART:20221211T080000+0000
DTEND:20221211T120000+0000
SUMMARY:Danny Harts Descend Winter Series R1
DESCRIPTION:Danny Harts Descend Winter Series R1 - more details: https://www.moredirt.com/event/5322
X-ALT-DESC;FMTTYPE=text/html:Danny Harts Descend Winter Series R1 - more details: https://www.moredirt.com/event/5322
LOCATION:
END:VEVENT
END:VCALENDAR