BEGIN:VCALENDAR
VERSION:2.0
PRODID:-//MoreDirt v1.0//EN
BEGIN:VEVENT
DTSTAMP:20150730T130000Z
ORGANIZER;CN=Martin Bunning:MAILTO:
STATUS:CONFIRMED
UID:MORESPORTSNETWORK5321
DTSTART:20221030T080000+0000
DTEND:20221030T120000+0000
SUMMARY:More Muddy Mayhem XC Mountain Bike Event
DESCRIPTION:More Muddy Mayhem XC Mountain Bike Event - more details: https://www.moredirt.com/event/5321
X-ALT-DESC;FMTTYPE=text/html:More Muddy Mayhem XC Mountain Bike Event - more details: https://www.moredirt.com/event/5321
LOCATION:
END:VEVENT
END:VCALENDAR