BEGIN:VCALENDAR
VERSION:2.0
PRODID:-//MoreDirt v1.0//EN
BEGIN:VEVENT
DTSTAMP:20150730T130000Z
ORGANIZER;CN=Mountain Biking UK:MAILTO:
STATUS:CONFIRMED
UID:MORESPORTSNETWORK5313
DTSTART:20221112T080000+0000
DTEND:20221112T120000+0000
SUMMARY:Ride Together Social Ride - Coed Llandegla
DESCRIPTION:Ride Together Social Ride - Coed Llandegla - more details: https://www.moredirt.com/event/5313
X-ALT-DESC;FMTTYPE=text/html:Ride Together Social Ride - Coed Llandegla - more details: https://www.moredirt.com/event/5313
LOCATION:
END:VEVENT
END:VCALENDAR