BEGIN:VCALENDAR
VERSION:2.0
PRODID:-//MoreDirt v1.0//EN
BEGIN:VEVENT
DTSTAMP:20150730T130000Z
ORGANIZER;CN=Mountain Biking UK:MAILTO:
STATUS:CONFIRMED
UID:MORESPORTSNETWORK5312
DTSTART:20221016T080000Z
DTEND:20221016T120000Z
SUMMARY:Ride Together Social Ride - Forest of Dean
DESCRIPTION:Ride Together Social Ride - Forest of Dean - more details: https://www.moredirt.com/event/5312
X-ALT-DESC;FMTTYPE=text/html:Ride Together Social Ride - Forest of Dean - more details: https://www.moredirt.com/event/5312
LOCATION:
END:VEVENT
END:VCALENDAR