BEGIN:VCALENDAR
VERSION:2.0
PRODID:-//MoreDirt v1.0//EN
BEGIN:VEVENT
DTSTAMP:20150730T130000Z
ORGANIZER;CN=Malcolm Street:MAILTO:
STATUS:CONFIRMED
UID:MORESPORTSNETWORK5309
DTSTART:20221009T080000Z
DTEND:20221009T120000Z
SUMMARY:Calderdale Mountain Bike Marathon
DESCRIPTION:Calderdale Mountain Bike Marathon - more details: https://www.moredirt.com/event/5309
X-ALT-DESC;FMTTYPE=text/html:Calderdale Mountain Bike Marathon - more details: https://www.moredirt.com/event/5309
LOCATION:
END:VEVENT
END:VCALENDAR