BEGIN:VCALENDAR
VERSION:2.0
PRODID:-//MoreDirt v1.0//EN
BEGIN:VEVENT
DTSTAMP:20150730T130000Z
ORGANIZER;CN=Strathpuffer:MAILTO:
STATUS:CONFIRMED
UID:MORESPORTSNETWORK5306
DTSTART:20230114T080000+0000
DTEND:20230115T120000+0000
SUMMARY:Strathpuffer 24 MTB 2023
DESCRIPTION:Strathpuffer 24 MTB 2023 - more details: https://www.moredirt.com/event/5306
X-ALT-DESC;FMTTYPE=text/html:Strathpuffer 24 MTB 2023 - more details: https://www.moredirt.com/event/5306
LOCATION:
END:VEVENT
END:VCALENDAR