BEGIN:VCALENDAR
VERSION:2.0
PRODID:-//MoreDirt v1.0//EN
BEGIN:VEVENT
DTSTAMP:20150730T130000Z
ORGANIZER;CN=Transition Bikes:MAILTO:
STATUS:CONFIRMED
UID:MORESPORTSNETWORK5303
DTSTART:20220903T080000Z
DTEND:20220903T120000Z
SUMMARY:Laps on Us - Transition Bikes
DESCRIPTION:Laps on Us - Transition Bikes - more details: https://www.moredirt.com/event/5303
X-ALT-DESC;FMTTYPE=text/html:Laps on Us - Transition Bikes - more details: https://www.moredirt.com/event/5303
LOCATION:
END:VEVENT
END:VCALENDAR