BEGIN:VCALENDAR
VERSION:2.0
PRODID:-//MoreDirt v1.0//EN
BEGIN:VEVENT
DTSTAMP:20150730T130000Z
ORGANIZER;CN=Edge Cycles:MAILTO:
STATUS:CONFIRMED
UID:MORESPORTSNETWORK5302
DTSTART:20221029T080000Z
DTEND:20221030T120000+0000
SUMMARY:EDG’DURO Round 1
DESCRIPTION:EDG’DURO Round 1 - more details: https://www.moredirt.com/event/5302
X-ALT-DESC;FMTTYPE=text/html:EDG’DURO Round 1 - more details: https://www.moredirt.com/event/5302
LOCATION:
END:VEVENT
END:VCALENDAR